BEGIN:VCALENDAR
VERSION:2.0
PRODID:-//ddaysoftware.com//NONSGML DDay.iCal 1.0//EN
BEGIN:VTIMEZONE
TZID:W. Europe Standard Time
BEGIN:STANDARD
DTSTART:20251002T030000
RRULE:FREQ=YEARLY;BYDAY=-1SU;BYHOUR=3;BYMINUTE=0;BYMONTH=10
TZNAME:W. Europe Standard Time
TZOFFSETFROM:+0200
TZOFFSETTO:+0100
END:STANDARD
BEGIN:DAYLIGHT
DTSTART:20250301T020000
RRULE:FREQ=YEARLY;BYDAY=-1SU;BYHOUR=2;BYMINUTE=0;BYMONTH=3
TZNAME:W. Europe Daylight Time
TZOFFSETFROM:+0100
TZOFFSETTO:+0200
END:DAYLIGHT
END:VTIMEZONE
BEGIN:VEVENT
CATEGORIES:Ausschusssitzung
DESCRIPTION:\n\nVeranstalter: Landkreistag Nordrhein-Westfalen\n\nhttps://w
 ww.lkt-nrw.de/aktuelles-und-presse/veranstaltungen-und-termine/ausschuss-f
 uer-wirtschaft-und-verkehr-25032026/
DTEND:20260325T130000
DTSTAMP:20260424T202307Z
DTSTART:20260325T100000
LOCATION:Kreis Warendorf: Waldenburger Str. 2\, 48231 Warendorf
SEQUENCE:0
SUMMARY:Ausschuss für Wirtschaft und Verkehr
UID:32908
URL:https://www.lkt-nrw.de/aktuelles-und-presse/veranstaltungen-und-termine
 /ausschuss-fuer-wirtschaft-und-verkehr-25032026/
END:VEVENT
END:VCALENDAR
