BEGIN:VCALENDAR
VERSION:2.0
PRODID:-//ddaysoftware.com//NONSGML DDay.iCal 1.0//EN
BEGIN:VTIMEZONE
TZID:W. Europe Standard Time
BEGIN:STANDARD
DTSTART:20251002T030000
RRULE:FREQ=YEARLY;BYDAY=-1SU;BYHOUR=3;BYMINUTE=0;BYMONTH=10
TZNAME:W. Europe Standard Time
TZOFFSETFROM:+0200
TZOFFSETTO:+0100
END:STANDARD
BEGIN:DAYLIGHT
DTSTART:20250301T020000
RRULE:FREQ=YEARLY;BYDAY=-1SU;BYHOUR=2;BYMINUTE=0;BYMONTH=3
TZNAME:W. Europe Daylight Time
TZOFFSETFROM:+0100
TZOFFSETTO:+0200
END:DAYLIGHT
END:VTIMEZONE
BEGIN:VEVENT
CATEGORIES:Präsidium DLT
DESCRIPTION:\n\nVeranstalter: Deutscher Landkreistag\n\nhttps://www.lkt-nrw
 .de/aktuelles-und-presse/veranstaltungen-und-termine/dlt-praesidium-262706
 2018-landkreis-esslingen/
DTEND:20180627T130000
DTSTAMP:20260424T152051Z
DTSTART:20180626T100000
SEQUENCE:0
SUMMARY:DLT-Präsidium 26./27.06.2018
UID:12161
URL:https://www.lkt-nrw.de/aktuelles-und-presse/veranstaltungen-und-termine
 /dlt-praesidium-2627062018-landkreis-esslingen/
END:VEVENT
END:VCALENDAR
