BEGIN:VCALENDAR
VERSION:2.0
PRODID:-//ddaysoftware.com//NONSGML DDay.iCal 1.0//EN
BEGIN:VTIMEZONE
TZID:W. Europe Standard Time
BEGIN:STANDARD
DTSTART:20251002T030000
RRULE:FREQ=YEARLY;BYDAY=-1SU;BYHOUR=3;BYMINUTE=0;BYMONTH=10
TZNAME:W. Europe Standard Time
TZOFFSETFROM:+0200
TZOFFSETTO:+0100
END:STANDARD
BEGIN:DAYLIGHT
DTSTART:20250301T020000
RRULE:FREQ=YEARLY;BYDAY=-1SU;BYHOUR=2;BYMINUTE=0;BYMONTH=3
TZNAME:W. Europe Daylight Time
TZOFFSETFROM:+0100
TZOFFSETTO:+0200
END:DAYLIGHT
END:VTIMEZONE
BEGIN:VEVENT
CATEGORIES:Ausschusssitzung
DESCRIPTION:Gesundheitsamt des Kreises Mettmann\, Timocom Platz 1\, 40699 E
 rkrath\, Raum 04.202/04.203\n\nVeranstalter: Landkreistag Nordrhein-Westfa
 len\n\nhttps://www.lkt-nrw.de/aktuelles-und-presse/veranstaltungen-und-ter
 mine/gesundheitsausschuss-am-07052025/
DTEND:20250507T110000
DTSTAMP:20260425T130618Z
DTSTART:20250507T100000
LOCATION:Kreis Mettmann: Düsseldorfer Str. 26\, 40822 Mettmann
SEQUENCE:0
SUMMARY:Gesundheitsausschuss am 07.05.2025
UID:30918
URL:https://www.lkt-nrw.de/aktuelles-und-presse/veranstaltungen-und-termine
 /gesundheitsausschuss-am-07052025/
END:VEVENT
END:VCALENDAR
