BEGIN:VCALENDAR
VERSION:2.0
PRODID:-//ddaysoftware.com//NONSGML DDay.iCal 1.0//EN
BEGIN:VTIMEZONE
TZID:W. Europe Standard Time
BEGIN:STANDARD
DTSTART:20251002T030000
RRULE:FREQ=YEARLY;BYDAY=-1SU;BYHOUR=3;BYMINUTE=0;BYMONTH=10
TZNAME:W. Europe Standard Time
TZOFFSETFROM:+0200
TZOFFSETTO:+0100
END:STANDARD
BEGIN:DAYLIGHT
DTSTART:20250301T020000
RRULE:FREQ=YEARLY;BYDAY=-1SU;BYHOUR=2;BYMINUTE=0;BYMONTH=3
TZNAME:W. Europe Daylight Time
TZOFFSETFROM:+0100
TZOFFSETTO:+0200
END:DAYLIGHT
END:VTIMEZONE
BEGIN:VEVENT
CATEGORIES:Ausschusssitzung
DESCRIPTION:\n\nVeranstalter: Landkreistag Nordrhein-Westfalen\n\nhttps://w
 ww.lkt-nrw.de/aktuelles-und-presse/veranstaltungen-und-termine/klausursitz
 ung-des-ausschusses-fuer-verfassung-verwaltung-und-personal-des-lkt-nrw/
DTEND:20230512T120000
DTSTAMP:20260419T184719Z
DTSTART:20230511T120000
LOCATION:Kreis Höxter: Moltkestr. 12\, 37671 Höxter
SEQUENCE:0
SUMMARY:Klausursitzung des Ausschusses für Verfassung\, Verwaltung und Pers
 onal des LKT NRW
UID:24754
URL:https://www.lkt-nrw.de/aktuelles-und-presse/veranstaltungen-und-termine
 /klausursitzung-des-ausschusses-fuer-verfassung-verwaltung-und-personal-de
 s-lkt-nrw/
END:VEVENT
END:VCALENDAR
