BEGIN:VCALENDAR
VERSION:2.0
PRODID:-//ddaysoftware.com//NONSGML DDay.iCal 1.0//EN
BEGIN:VTIMEZONE
TZID:W. Europe Standard Time
BEGIN:STANDARD
DTSTART:20251002T030000
RRULE:FREQ=YEARLY;BYDAY=-1SU;BYHOUR=3;BYMINUTE=0;BYMONTH=10
TZNAME:W. Europe Standard Time
TZOFFSETFROM:+0200
TZOFFSETTO:+0100
END:STANDARD
BEGIN:DAYLIGHT
DTSTART:20250301T020000
RRULE:FREQ=YEARLY;BYDAY=-1SU;BYHOUR=2;BYMINUTE=0;BYMONTH=3
TZNAME:W. Europe Daylight Time
TZOFFSETFROM:+0100
TZOFFSETTO:+0200
END:DAYLIGHT
END:VTIMEZONE
BEGIN:VEVENT
CATEGORIES:Veranstaltung
DESCRIPTION:\n\nVeranstalter: Zusammenschluss Kommunale Wirtschaftsförderun
 g NRW\n\nhttps://www.lkt-nrw.de/aktuelles-und-presse/veranstaltungen-und-t
 ermine/kongress-kommunale-wirtschaftsfoerderung/
DTEND:20180917T110000
DTSTAMP:20260420T070938Z
DTSTART:20180917T100000
LOCATION:Pegelbar: Am Zollhafen 5\, 41460 Neuss
SEQUENCE:0
SUMMARY:Kongress Kommunale Wirtschaftsförderung
UID:13354
URL:https://www.lkt-nrw.de/aktuelles-und-presse/veranstaltungen-und-termine
 /kongress-kommunale-wirtschaftsfoerderung/
END:VEVENT
END:VCALENDAR
