BEGIN:VCALENDAR
VERSION:2.0
PRODID:-//ddaysoftware.com//NONSGML DDay.iCal 1.0//EN
BEGIN:VTIMEZONE
TZID:W. Europe Standard Time
BEGIN:STANDARD
DTSTART:20251002T030000
RRULE:FREQ=YEARLY;BYDAY=-1SU;BYHOUR=3;BYMINUTE=0;BYMONTH=10
TZNAME:W. Europe Standard Time
TZOFFSETFROM:+0200
TZOFFSETTO:+0100
END:STANDARD
BEGIN:DAYLIGHT
DTSTART:20250301T020000
RRULE:FREQ=YEARLY;BYDAY=-1SU;BYHOUR=2;BYMINUTE=0;BYMONTH=3
TZNAME:W. Europe Daylight Time
TZOFFSETFROM:+0100
TZOFFSETTO:+0200
END:DAYLIGHT
END:VTIMEZONE
BEGIN:VEVENT
CATEGORIES:Kreistagsforen
DESCRIPTION:Kreistagsforum des Landkreistages Nordrhein-Westfalen mit Minis
 terpräsidentin Ina Scharrenbach\, \nMinisterium für Heimat\, Kommunales\, 
 Bau und Gleichstellung des Landes Nordrhein-Westfalen\n\nVeranstalter: Lan
 dkreistag Nordrhein-Westfalen\n\nhttps://www.lkt-nrw.de/aktuelles-und-pres
 se/veranstaltungen-und-termine/kreistagsforum-11092018/
DTEND:20180911T190000
DTSTAMP:20260421T102340Z
DTSTART:20180911T180000
LOCATION:Max-Born-Berufskolleg: Campus Vest 3\, 45665 Recklinghausen
SEQUENCE:0
SUMMARY:Kreistagsforum 11.09.2018
UID:12163
URL:https://www.lkt-nrw.de/aktuelles-und-presse/veranstaltungen-und-termine
 /kreistagsforum-11092018/
END:VEVENT
END:VCALENDAR
