BEGIN:VCALENDAR
VERSION:2.0
PRODID:-//ddaysoftware.com//NONSGML DDay.iCal 1.0//EN
BEGIN:VTIMEZONE
TZID:W. Europe Standard Time
BEGIN:STANDARD
DTSTART:20251002T030000
RRULE:FREQ=YEARLY;BYDAY=-1SU;BYHOUR=3;BYMINUTE=0;BYMONTH=10
TZNAME:W. Europe Standard Time
TZOFFSETFROM:+0200
TZOFFSETTO:+0100
END:STANDARD
BEGIN:DAYLIGHT
DTSTART:20250301T020000
RRULE:FREQ=YEARLY;BYDAY=-1SU;BYHOUR=2;BYMINUTE=0;BYMONTH=3
TZNAME:W. Europe Daylight Time
TZOFFSETFROM:+0100
TZOFFSETTO:+0200
END:DAYLIGHT
END:VTIMEZONE
BEGIN:VEVENT
CATEGORIES:Kreistagsforen
DESCRIPTION:Thema: Klimaschutz und Energiewende in den NRW-Kreisen:\nHandlu
 ngsbedarfe\, Potentiale und Perspektiven für Bürgerinnen und Bürger\, Unte
 rnehmen\, Landwirtschaft und Kommunalverwaltungen\n\nVeranstalter: Landkre
 istag Nordrhein-Westfalen\n\nhttps://www.lkt-nrw.de/aktuelles-und-presse/v
 eranstaltungen-und-termine/kreistagsforum-2020-duesseldorf/
DTEND:20200219T190000
DTSTAMP:20260421T102856Z
DTSTART:20200219T180000
LOCATION:Landkreistag Nordrhein-Westfalen: Kavalleriestraße 8\, 40213 Düsse
 ldorf
SEQUENCE:0
SUMMARY:Kreistagsforum Düsseldorf
UID:15455
URL:https://www.lkt-nrw.de/aktuelles-und-presse/veranstaltungen-und-termine
 /kreistagsforum-2020-duesseldorf/
END:VEVENT
END:VCALENDAR
