BEGIN:VCALENDAR
VERSION:2.0
PRODID:-//ddaysoftware.com//NONSGML DDay.iCal 1.0//EN
BEGIN:VTIMEZONE
TZID:W. Europe Standard Time
BEGIN:STANDARD
DTSTART:20251002T030000
RRULE:FREQ=YEARLY;BYDAY=-1SU;BYHOUR=3;BYMINUTE=0;BYMONTH=10
TZNAME:W. Europe Standard Time
TZOFFSETFROM:+0200
TZOFFSETTO:+0100
END:STANDARD
BEGIN:DAYLIGHT
DTSTART:20250301T020000
RRULE:FREQ=YEARLY;BYDAY=-1SU;BYHOUR=2;BYMINUTE=0;BYMONTH=3
TZNAME:W. Europe Daylight Time
TZOFFSETFROM:+0100
TZOFFSETTO:+0200
END:DAYLIGHT
END:VTIMEZONE
BEGIN:VEVENT
CATEGORIES:Kreistagsforen
DESCRIPTION:Thema: \nKlimaschutz und Energiewende in den NRW-Kreisen:\nHand
 lungsbedarfe\, Potentiale und Perspektiven - \nfür Bürgerinnen und Bürger\
 , Unternehmen\, Landwirtschaft und Kommunalverwaltungen\n\nVeranstalter: L
 andkreistag Nordrhein-Westfalen\n\nhttps://www.lkt-nrw.de/aktuelles-und-pr
 esse/veranstaltungen-und-termine/kreistagsforum-2020-guetersloh/
DTEND:20200210T190000
DTSTAMP:20260419T135527Z
DTSTART:20200210T180000
LOCATION:Kreisverwaltung Gütersloh: Herzebrocker Str. 140\, 33334 Gütersloh
SEQUENCE:0
SUMMARY:Kreistagsforum Gütersloh
UID:15454
URL:https://www.lkt-nrw.de/aktuelles-und-presse/veranstaltungen-und-termine
 /kreistagsforum-2020-guetersloh/
END:VEVENT
END:VCALENDAR
