BEGIN:VCALENDAR
VERSION:2.0
PRODID:-//ddaysoftware.com//NONSGML DDay.iCal 1.0//EN
BEGIN:VTIMEZONE
TZID:W. Europe Standard Time
BEGIN:STANDARD
DTSTART:20251002T030000
RRULE:FREQ=YEARLY;BYDAY=-1SU;BYHOUR=3;BYMINUTE=0;BYMONTH=10
TZNAME:W. Europe Standard Time
TZOFFSETFROM:+0200
TZOFFSETTO:+0100
END:STANDARD
BEGIN:DAYLIGHT
DTSTART:20250301T020000
RRULE:FREQ=YEARLY;BYDAY=-1SU;BYHOUR=2;BYMINUTE=0;BYMONTH=3
TZNAME:W. Europe Daylight Time
TZOFFSETFROM:+0100
TZOFFSETTO:+0200
END:DAYLIGHT
END:VTIMEZONE
BEGIN:VEVENT
CATEGORIES:Landkreisversammlung
DESCRIPTION:Ab 15:00 Uhr: Eintreffen der Delegierten\n16:00 Uhr :      Inte
 rner Teil\n17:00 Uhr:       Öffentlicher Teil\nAb 18:30 Uhr: Abendimbiss\n
 \nVeranstalter: Landkreistag Nordrhein-Westfalen\n\nhttps://www.lkt-nrw.de
 /aktuelles-und-presse/veranstaltungen-und-termine/landkreisversammlung-190
 82021/
DTEND:20210819T170000
DTSTAMP:20260419T185257Z
DTSTART:20210819T160000
LOCATION:Landtag Düsseldorf: Platz es Landtags 1\, 40221  Düsseldorf
SEQUENCE:0
SUMMARY:Landkreisversammlung
UID:22083
URL:https://www.lkt-nrw.de/aktuelles-und-presse/veranstaltungen-und-termine
 /landkreisversammlung-19082021/
END:VEVENT
END:VCALENDAR
