BEGIN:VCALENDAR
VERSION:2.0
PRODID:-//ddaysoftware.com//NONSGML DDay.iCal 1.0//EN
BEGIN:VTIMEZONE
TZID:W. Europe Standard Time
BEGIN:STANDARD
DTSTART:20251002T030000
RRULE:FREQ=YEARLY;BYDAY=-1SU;BYHOUR=3;BYMINUTE=0;BYMONTH=10
TZNAME:W. Europe Standard Time
TZOFFSETFROM:+0200
TZOFFSETTO:+0100
END:STANDARD
BEGIN:DAYLIGHT
DTSTART:20250301T020000
RRULE:FREQ=YEARLY;BYDAY=-1SU;BYHOUR=2;BYMINUTE=0;BYMONTH=3
TZNAME:W. Europe Daylight Time
TZOFFSETFROM:+0100
TZOFFSETTO:+0200
END:DAYLIGHT
END:VTIMEZONE
BEGIN:VEVENT
CATEGORIES:NRW-Landrätekonferenz
DESCRIPTION:\n\nVeranstalter: Landkreistag Nordrhein-Westfalen\n\nhttps://w
 ww.lkt-nrw.de/aktuelles-und-presse/veranstaltungen-und-termine/nrw-landrae
 tekonferenz-1516062023/
DTEND:20230616T130000
DTSTAMP:20260421T104207Z
DTSTART:20230615T130000
SEQUENCE:0
SUMMARY:NRW-Landrätekonferenz 15./16.06.2023\, Berlin
UID:25558
URL:https://www.lkt-nrw.de/aktuelles-und-presse/veranstaltungen-und-termine
 /nrw-landraetekonferenz-1516062023/
END:VEVENT
END:VCALENDAR
