BEGIN:VCALENDAR
VERSION:2.0
PRODID:-//ddaysoftware.com//NONSGML DDay.iCal 1.0//EN
BEGIN:VTIMEZONE
TZID:W. Europe Standard Time
BEGIN:STANDARD
DTSTART:20251002T030000
RRULE:FREQ=YEARLY;BYDAY=-1SU;BYHOUR=3;BYMINUTE=0;BYMONTH=10
TZNAME:W. Europe Standard Time
TZOFFSETFROM:+0200
TZOFFSETTO:+0100
END:STANDARD
BEGIN:DAYLIGHT
DTSTART:20250301T020000
RRULE:FREQ=YEARLY;BYDAY=-1SU;BYHOUR=2;BYMINUTE=0;BYMONTH=3
TZNAME:W. Europe Daylight Time
TZOFFSETFROM:+0100
TZOFFSETTO:+0200
END:DAYLIGHT
END:VTIMEZONE
BEGIN:VEVENT
CATEGORIES:Präsidium DLT
DESCRIPTION:\n\nVeranstalter: Deutscher Landkreistag\n\nhttps://www.lkt-nrw
 .de/aktuelles-und-presse/veranstaltungen-und-termine/praesidium-dlt-060710
 2026-burgenlandkreis/
DTEND:20261007T130000
DTSTAMP:20260421T103313Z
DTSTART:20261006T110000
SEQUENCE:0
SUMMARY:Präsidium DLT 06./07.10.2026 – Burgenlandkreis
UID:32357
URL:https://www.lkt-nrw.de/aktuelles-und-presse/veranstaltungen-und-termine
 /praesidium-dlt-0607102026-burgenlandkreis/
END:VEVENT
END:VCALENDAR
