BEGIN:VCALENDAR
VERSION:2.0
PRODID:-//ddaysoftware.com//NONSGML DDay.iCal 1.0//EN
BEGIN:VTIMEZONE
TZID:W. Europe Standard Time
BEGIN:STANDARD
DTSTART:20251002T030000
RRULE:FREQ=YEARLY;BYDAY=-1SU;BYHOUR=3;BYMINUTE=0;BYMONTH=10
TZNAME:W. Europe Standard Time
TZOFFSETFROM:+0200
TZOFFSETTO:+0100
END:STANDARD
BEGIN:DAYLIGHT
DTSTART:20250301T020000
RRULE:FREQ=YEARLY;BYDAY=-1SU;BYHOUR=2;BYMINUTE=0;BYMONTH=3
TZNAME:W. Europe Daylight Time
TZOFFSETFROM:+0100
TZOFFSETTO:+0200
END:DAYLIGHT
END:VTIMEZONE
BEGIN:VEVENT
CATEGORIES:Ausschusssitzung
DESCRIPTION:\n\nVeranstalter: Landkreistag Nordrhein-Westfalen\n\nhttps://w
 ww.lkt-nrw.de/aktuelles-und-presse/veranstaltungen-und-termine/sozial-und-
 jugendausschuss-06062018-im-kreis-unna/
DTEND:20180606T110000
DTSTAMP:20260419T140825Z
DTSTART:20180606T100000
LOCATION:Kreis Unna: Friedrich-Ebert-Str. 17\, 59425 Unna
SEQUENCE:0
SUMMARY:Sozial- und Jugendausschuss im Kreis Unna
UID:12557
URL:https://www.lkt-nrw.de/aktuelles-und-presse/veranstaltungen-und-termine
 /sozial-und-jugendausschuss-06062018-im-kreis-unna/
END:VEVENT
END:VCALENDAR
