BEGIN:VCALENDAR
VERSION:2.0
PRODID:-//ddaysoftware.com//NONSGML DDay.iCal 1.0//EN
BEGIN:VTIMEZONE
TZID:W. Europe Standard Time
BEGIN:STANDARD
DTSTART:20251002T030000
RRULE:FREQ=YEARLY;BYDAY=-1SU;BYHOUR=3;BYMINUTE=0;BYMONTH=10
TZNAME:W. Europe Standard Time
TZOFFSETFROM:+0200
TZOFFSETTO:+0100
END:STANDARD
BEGIN:DAYLIGHT
DTSTART:20250301T020000
RRULE:FREQ=YEARLY;BYDAY=-1SU;BYHOUR=2;BYMINUTE=0;BYMONTH=3
TZNAME:W. Europe Daylight Time
TZOFFSETFROM:+0100
TZOFFSETTO:+0200
END:DAYLIGHT
END:VTIMEZONE
BEGIN:VEVENT
CATEGORIES:Veranstaltung
DESCRIPTION:Der Tag der kommunalen Jobcenter findet am 27./28.11.2017 in Be
 rlin und damit in der Zeit der Regierungsbildung nach der Bundestagswahl s
 tatt. Deshalb soll die jährlich stattfindende Veranstaltung dieses Mal auc
 h politisch ausgerichtet werden und die Weiterentwicklung der Arbeitsmarkt
 politik sowie insbesondere die Anforderungen an eine Stärkung der Jobcente
 r diskutieren.\n\nDie Einladung zu der Veranstaltung wird ab September 201
 7 unter www.benchlearning-sgb2.de bereitstehen. Der Zeitrahmen wird am 27.
 11.2917 von 13:00 Uhr bis 18:00 Uhr und am 28.11.2017 von 9:00 bis 12:00 U
 hr umfassen.\n\nVeranstalter: Deutscher Landkreistag\, Deutscher Städtetag
 \n\nhttps://www.lkt-nrw.de/aktuelles-und-presse/veranstaltungen-und-termin
 e/tag-der-kommunalen-jobcenter/
DTEND:20171128T120000
DTSTAMP:20260421T101954Z
DTSTART:20171127T130000
SEQUENCE:0
SUMMARY:Tag der kommunalen Jobcenter
UID:11931
URL:https://www.lkt-nrw.de/aktuelles-und-presse/veranstaltungen-und-termine
 /tag-der-kommunalen-jobcenter/
END:VEVENT
END:VCALENDAR
