BEGIN:VCALENDAR
VERSION:2.0
PRODID:-//ddaysoftware.com//NONSGML DDay.iCal 1.0//EN
BEGIN:VTIMEZONE
TZID:W. Europe Standard Time
BEGIN:STANDARD
DTSTART:20251002T030000
RRULE:FREQ=YEARLY;BYDAY=-1SU;BYHOUR=3;BYMINUTE=0;BYMONTH=10
TZNAME:W. Europe Standard Time
TZOFFSETFROM:+0200
TZOFFSETTO:+0100
END:STANDARD
BEGIN:DAYLIGHT
DTSTART:20250301T020000
RRULE:FREQ=YEARLY;BYDAY=-1SU;BYHOUR=2;BYMINUTE=0;BYMONTH=3
TZNAME:W. Europe Daylight Time
TZOFFSETFROM:+0100
TZOFFSETTO:+0200
END:DAYLIGHT
END:VTIMEZONE
BEGIN:VEVENT
CATEGORIES:Veranstaltung
DESCRIPTION:Unter dem Motto "Modern(e): Umbrüche in Kunst und Architektur" 
 findet am 8. September 2019 erneut der Tag des offenen Denkmals statt. Mit
  rund 8000 Veranstaltungen ist der Tag des offenen Denkmals nicht nur die 
 größte Kulturveranstaltung Deutschlands- er ist auch das größte Schaufenst
 er für den Denkmalschutz.\n\nhttps://www.tag-des-offenen-denkmals.de/\n\nV
 eranstalter: Deutsche Stiftung Denkmalschutz\n\nhttps://www.lkt-nrw.de/akt
 uelles-und-presse/veranstaltungen-und-termine/tag-des-offenen-denkmals-201
 9/
DTEND:20190908T090000
DTSTAMP:20260421T101120Z
DTSTART:20190908T080000
SEQUENCE:0
SUMMARY:Tag des offenen Denkmals 2019
UID:14280
URL:https://www.lkt-nrw.de/aktuelles-und-presse/veranstaltungen-und-termine
 /tag-des-offenen-denkmals-2019/
END:VEVENT
END:VCALENDAR
