BEGIN:VCALENDAR
VERSION:2.0
PRODID:-//ddaysoftware.com//NONSGML DDay.iCal 1.0//EN
BEGIN:VTIMEZONE
TZID:W. Europe Standard Time
BEGIN:STANDARD
DTSTART:20251002T030000
RRULE:FREQ=YEARLY;BYDAY=-1SU;BYHOUR=3;BYMINUTE=0;BYMONTH=10
TZNAME:W. Europe Standard Time
TZOFFSETFROM:+0200
TZOFFSETTO:+0100
END:STANDARD
BEGIN:DAYLIGHT
DTSTART:20250301T020000
RRULE:FREQ=YEARLY;BYDAY=-1SU;BYHOUR=2;BYMINUTE=0;BYMONTH=3
TZNAME:W. Europe Daylight Time
TZOFFSETFROM:+0100
TZOFFSETTO:+0200
END:DAYLIGHT
END:VTIMEZONE
BEGIN:VEVENT
CATEGORIES:Veranstaltung
DESCRIPTION:"Noch mehr Verantwortung? - Strategisches IT-Management durch d
 en Verwaltungsvorstand"\n \nIn den überörtlichen Prüfungen der Information
 stechnik haben wir festgestellt\, dass die strategische IT-Steuerung durch
  den Verwaltungsvorstand in der kommunalen Landschaft sehr unterschiedlich
  wahrgenommen wird.\nUrsachen und Lösungen sollen auf dem Thementag IT der
  GPA NRW beleuchtet werden\, zu dem wir Sie ganz herzlich einladen.\n\nVer
 anstalter: GPA NRW\, Kommunale Gemeinschaftsstelle für Verwaltungsmanageme
 nt\n\nhttps://www.lkt-nrw.de/aktuelles-und-presse/veranstaltungen-und-term
 ine/thementag-it-gpa-nrw-in-kooperation-mit-der-kgst/
DTEND;VALUE=DATE:20170203
DTSTAMP:20260421T103907Z
DTSTART;VALUE=DATE:20170202
LOCATION:Kongresszentrum Westfalenhallen: Strobelallee 45\, 44139 Dortmund
SEQUENCE:0
SUMMARY:THEMENTAG IT GPA NRW in Kooperation mit der KGSt
UID:4164
URL:https://www.lkt-nrw.de/aktuelles-und-presse/veranstaltungen-und-termine
 /thementag-it-gpa-nrw-in-kooperation-mit-der-kgst/
END:VEVENT
END:VCALENDAR
