BEGIN:VCALENDAR
VERSION:2.0
PRODID:-//ddaysoftware.com//NONSGML DDay.iCal 1.0//EN
BEGIN:VTIMEZONE
TZID:W. Europe Standard Time
BEGIN:STANDARD
DTSTART:20251002T030000
RRULE:FREQ=YEARLY;BYDAY=-1SU;BYHOUR=3;BYMINUTE=0;BYMONTH=10
TZNAME:W. Europe Standard Time
TZOFFSETFROM:+0200
TZOFFSETTO:+0100
END:STANDARD
BEGIN:DAYLIGHT
DTSTART:20250301T020000
RRULE:FREQ=YEARLY;BYDAY=-1SU;BYHOUR=2;BYMINUTE=0;BYMONTH=3
TZNAME:W. Europe Daylight Time
TZOFFSETFROM:+0100
TZOFFSETTO:+0200
END:DAYLIGHT
END:VTIMEZONE
BEGIN:VEVENT
CATEGORIES:Ausschusssitzung
DESCRIPTION:Die Fachausschusssitzung fällt wegen der Corona-Krise aus und w
 ird zu einem späteren Zeitpunkt nachgeholt.\n\nVeranstalter: Landkreistag 
 Nordrhein-Westfalen\n\nhttps://www.lkt-nrw.de/aktuelles-und-presse/veranst
 altungen-und-termine/umwelt-und-bauausschuss-23042020/
DTEND:20200423T110000
DTSTAMP:20260419T185041Z
DTSTART:20200423T100000
LOCATION:Die Fachausschusssitzung wurde wegen der Corona-Krise abgesagt: Ka
 vallariestr. 8\, 40213 ...
SEQUENCE:0
SUMMARY:Umwelt- und Bauausschuss
UID:15461
URL:https://www.lkt-nrw.de/aktuelles-und-presse/veranstaltungen-und-termine
 /umwelt-und-bauausschuss-23042020/
END:VEVENT
END:VCALENDAR
