BEGIN:VCALENDAR
VERSION:2.0
PRODID:-//ddaysoftware.com//NONSGML DDay.iCal 1.0//EN
BEGIN:VTIMEZONE
TZID:W. Europe Standard Time
BEGIN:STANDARD
DTSTART:20251002T030000
RRULE:FREQ=YEARLY;BYDAY=-1SU;BYHOUR=3;BYMINUTE=0;BYMONTH=10
TZNAME:W. Europe Standard Time
TZOFFSETFROM:+0200
TZOFFSETTO:+0100
END:STANDARD
BEGIN:DAYLIGHT
DTSTART:20250301T020000
RRULE:FREQ=YEARLY;BYDAY=-1SU;BYHOUR=2;BYMINUTE=0;BYMONTH=3
TZNAME:W. Europe Daylight Time
TZOFFSETFROM:+0100
TZOFFSETTO:+0200
END:DAYLIGHT
END:VTIMEZONE
BEGIN:VEVENT
CATEGORIES:Ausschusssitzung
DESCRIPTION:\n\nVeranstalter: Landkreistag Nordrhein-Westfalen\n\nhttps://w
 ww.lkt-nrw.de/aktuelles-und-presse/veranstaltungen-und-termine/umwelt-und-
 bauausschuss-im-muenster/
DTEND:20191127T110000
DTSTAMP:20260421T103420Z
DTSTART:20191127T100000
LOCATION:Landwirtschaftskammer NRW: Münsterstr. 62-68\, 48167 Münster
SEQUENCE:0
SUMMARY:Umwelt- und Bauausschuss
UID:14470
URL:https://www.lkt-nrw.de/aktuelles-und-presse/veranstaltungen-und-termine
 /umwelt-und-bauausschuss-im-muenster/
END:VEVENT
END:VCALENDAR
