BEGIN:VCALENDAR
VERSION:2.0
PRODID:-//ddaysoftware.com//NONSGML DDay.iCal 1.0//EN
BEGIN:VTIMEZONE
TZID:W. Europe Standard Time
BEGIN:STANDARD
DTSTART:20251002T030000
RRULE:FREQ=YEARLY;BYDAY=-1SU;BYHOUR=3;BYMINUTE=0;BYMONTH=10
TZNAME:W. Europe Standard Time
TZOFFSETFROM:+0200
TZOFFSETTO:+0100
END:STANDARD
BEGIN:DAYLIGHT
DTSTART:20250301T020000
RRULE:FREQ=YEARLY;BYDAY=-1SU;BYHOUR=2;BYMINUTE=0;BYMONTH=3
TZNAME:W. Europe Daylight Time
TZOFFSETFROM:+0100
TZOFFSETTO:+0200
END:DAYLIGHT
END:VTIMEZONE
BEGIN:VEVENT
CATEGORIES:Vorstandklausurtagung
DESCRIPTION:Harsewinkel/Kreis Gütersloh\n\nVeranstalter: Landkreistag Nordr
 hein-Westfalen\n\nhttps://www.lkt-nrw.de/aktuelles-und-presse/veranstaltun
 gen-und-termine/vorstands-klausurtagung-1617012023/
DTEND:20230117T130000
DTSTAMP:20260421T101053Z
DTSTART:20230116T100000
SEQUENCE:0
SUMMARY:Vorstands-Klausurtagung
UID:25552
URL:https://www.lkt-nrw.de/aktuelles-und-presse/veranstaltungen-und-termine
 /vorstands-klausurtagung-1617012023/
END:VEVENT
END:VCALENDAR
