BEGIN:VCALENDAR
VERSION:2.0
PRODID:-//ddaysoftware.com//NONSGML DDay.iCal 1.0//EN
BEGIN:VTIMEZONE
TZID:W. Europe Standard Time
BEGIN:STANDARD
DTSTART:20251002T030000
RRULE:FREQ=YEARLY;BYDAY=-1SU;BYHOUR=3;BYMINUTE=0;BYMONTH=10
TZNAME:W. Europe Standard Time
TZOFFSETFROM:+0200
TZOFFSETTO:+0100
END:STANDARD
BEGIN:DAYLIGHT
DTSTART:20250301T020000
RRULE:FREQ=YEARLY;BYDAY=-1SU;BYHOUR=2;BYMINUTE=0;BYMONTH=3
TZNAME:W. Europe Daylight Time
TZOFFSETFROM:+0100
TZOFFSETTO:+0200
END:DAYLIGHT
END:VTIMEZONE
BEGIN:VEVENT
CATEGORIES:Vorstandssitzung
DESCRIPTION:\n\nVeranstalter: Landkreistag Nordrhein-Westfalen\n\nhttps://w
 ww.lkt-nrw.de/aktuelles-und-presse/veranstaltungen-und-termine/vorstandssi
 tzung-22092017-in-bad-lippspringe/
DTEND:20170922T150000
DTSTAMP:20260421T101817Z
DTSTART:20170922T140000
SEQUENCE:0
SUMMARY:Vorstandssitzung 22.09.2017 in Bad Lippspringe
UID:8283
URL:https://www.lkt-nrw.de/aktuelles-und-presse/veranstaltungen-und-termine
 /vorstandssitzung-22092017-in-bad-lippspringe/
END:VEVENT
END:VCALENDAR
