BEGIN:VCALENDAR
VERSION:2.0
PRODID:-//ddaysoftware.com//NONSGML DDay.iCal 1.0//EN
BEGIN:VTIMEZONE
TZID:W. Europe Standard Time
BEGIN:STANDARD
DTSTART:20251002T030000
RRULE:FREQ=YEARLY;BYDAY=-1SU;BYHOUR=3;BYMINUTE=0;BYMONTH=10
TZNAME:W. Europe Standard Time
TZOFFSETFROM:+0200
TZOFFSETTO:+0100
END:STANDARD
BEGIN:DAYLIGHT
DTSTART:20250301T020000
RRULE:FREQ=YEARLY;BYDAY=-1SU;BYHOUR=2;BYMINUTE=0;BYMONTH=3
TZNAME:W. Europe Daylight Time
TZOFFSETFROM:+0100
TZOFFSETTO:+0200
END:DAYLIGHT
END:VTIMEZONE
BEGIN:VEVENT
CATEGORIES:Ausschusssitzung
DESCRIPTION:An der Sitzung wird Staatssekretär Christoph Dammermann\, Minis
 terium für Wirtschaft\, Innovation\, Digitalisierung und Energie des Lande
 s Nordrhein-Westfalen\, teilnehmen und in einen Austausch mit den Mitglied
 ern treten.\n\nVeranstalter: Landkreistag Nordrhein-Westfalen\n\nhttps://w
 ww.lkt-nrw.de/aktuelles-und-presse/veranstaltungen-und-termine/wirtschafts
 -und-verkehrsausschuss-09052019/
DTEND:20190509T160000
DTSTAMP:20260419T185342Z
DTSTART:20190509T150000
LOCATION:Landkreistag Nordrhein-Westfalen: Kavalleriestraße 8\, 40213 Düsse
 ldorf
SEQUENCE:0
SUMMARY:Wirtschafts- und Verkehrsausschuss
UID:13824
URL:https://www.lkt-nrw.de/aktuelles-und-presse/veranstaltungen-und-termine
 /wirtschafts-und-verkehrsausschuss-09052019/
END:VEVENT
END:VCALENDAR
